BEGIN:VCALENDAR
VERSION:2.0
PRODID:-//Trawler-Calendar-Tool 0.2
METHOD:PUBLISH
BEGIN:VTIMEZONE
TZID:Europe/Berlin
BEGIN:STANDARD
TZNAME:CET
DTSTART:20100101T010000
RRULE:FREQ=YEARLY;BYDAY=-1SU;BYMONTH=10
TZOFFSETFROM:+0200
TZOFFSETTO:+0100
END:STANDARD
BEGIN:DAYLIGHT
TZNAME:CEST
DTSTART:20100101T010000
RRULE:FREQ=YEARLY;BYDAY=-1SU;BYMONTH=3
TZOFFSETFROM:+0100
TZOFFSETTO:+0200
END:DAYLIGHT
END:VTIMEZONE
X-WR-TIMEZONE:Europe/Berlin
X-ORIGINAL-URL:https://www.spd-altrip.de/termine/
BEGIN:VEVENT
DTSTART;TZID=Europe/Berlin:20260421T200000
DTEND;TZID=Europe/Berlin:20260421T220000
LOCATION:Altrip\, Reginozentrum - Fraktionszimmer
SUMMARY:Vorstandssitzung SPD Altrip
DESCRIPTION:Ich lade zur Vorstandssitzung der SPD Altrip ein.
 
 
 Am
   Dienstag\, den 21. April 2026 um 20.00 Uhr
 
 im Reginozentrum\,
   Fraktionszimmer
 
  
 
 Tagesordnung –
   Vorstandssitzung SPD Altrip
 
  
 
 1. Analyse der
   Landtagswahl 2026 und Schlussfolgerungen für die örtliche
   Arbeit
 2. Zukunftsstrategie der SPD Altrip – Stärkung
   von Präsenz\, Themenprofil und Mitwirkung
 3. Aktuelle
   kommunalpolitische Themen in Altrip
 4.
   Verschiedenes
 
  
 
 Wie immer sind alle
   SPD-Mitglieder und Interessierte herzlich
   willkommen.
 
  
 
  
 
 Hans Peter
   Kaub
 
 Vorsitzender
 
 SPD Altrip
X-ALT-DESC;FMTTYPE=text/plain:Ich lade zur Vorstandssitzung der SPD Altrip ein.
 
 
 Am
   Dienstag\, den 21. April 2026 um 20.00 Uhr
 
 im Reginozentrum\,
   Fraktionszimmer
 
 &nbsp\;
 
 Tagesordnung &ndash\;
   Vorstandssitzung SPD Altrip
 
 &nbsp\;
 
 1. Analyse der
   Landtagswahl 2026 und Schlussfolgerungen f&uuml\;r die &ouml\;rtliche
   Arbeit
 2. Zukunftsstrategie der SPD Altrip &ndash\; St&auml\;rkung
   von Pr&auml\;senz\, Themenprofil und Mitwirkung
 3. Aktuelle
   kommunalpolitische Themen in Altrip
 4.
   Verschiedenes
 
 &nbsp\;
 
 Wie immer sind alle
   SPD-Mitglieder und Interessierte herzlich
   willkommen.
 
 &nbsp\;
 
 &nbsp\;
 
 Hans Peter
   Kaub
 
 Vorsitzender
 
 SPD Altrip
PRIORITY:5
UID:wscms202724-altrip-45ee7df348a741a00f232c097c3cc4a6
URL:https://www.spd-altrip.de/calendar202724.ics
END:VEVENT
END:VCALENDAR